BEGIN:VCALENDAR
VERSION:2.0
PRODID:-//Illinois Conference, United Church of Christ - ECPv3.11.2//NONSGML v1.0//EN
CALSCALE:GREGORIAN
METHOD:PUBLISH
X-WR-CALNAME:Illinois Conference, United Church of Christ
X-ORIGINAL-URL:https://prairie.ilucc.org
X-WR-CALDESC:Events for Illinois Conference, United Church of Christ
BEGIN:VEVENT
DTSTART:20220611T160000Z
DTEND:20220611T180000Z
DTSTAMP:20260424T124957Z
CREATED:20220124T194142Z
LAST-MODIFIED:20220602T220131Z
UID:6326-1654963200-1654970400@prairie.ilucc.org
SUMMARY:CMA Spring Mtg
DESCRIPTION:\n\nYou are Invited to the CMA Spring Meeting!\nSaturday\, June 11\, 2022\n10:00 AM - 12:00 PM\nvia Zoom (registration details below)\n\n"Healing the Church - Healing the People"\n\nIntroduction: We’ve been through a lot! The world has been stressed and strained by the twin pandemics of COVID and racism. Violence is an ever-present threat. Our political system is broken. The climate is in crisis. Is it any wonder the church is struggling? Is it any wonder that the people are hurting?\n\nJoin the CMA for our Spring Meeting where we talk about Healing the Church and Healing the People. Our special presenters for the day are:\n\n\tRev. Dr. Stephanie Perdew\, Associate Conference Minister. Dr. Perdew will share how the IL Conference is helping build healthy churches and assisting congregations in the process of search and call.\n\tRev. Jon Gilbert Martinez\, Minister of Christ Church UCC of DesPlaines. Rev. Martinez will discuss how congregations can draw attention to the mental health concerns of our communities and point them toward paths of healing.\n\nMeeting Agenda\n\n10:00 - Welcome and Opening Prayer - Rev. Regena Glenn-Caldwell\n10:05 - Saturday Morning Music!\n10:10 - Scripture and Reflection - Rev. Jason Coulter\n10:20 - Healing the Church - Rev. Dr. Stephanie Perdew\n10:40 - Healing the People - Rev. Jon Gilbert Martinez\n11:00 - Break\n11:05 - CMA Business Meeting - Rev. Regena Glenn-Caldwell\n12:00 - Adjournment\n\nRegister Here\n\nYou are invited to a Zoom meeting.\nWhen: June 11\, 2022 10:00 AM Central Time (US and Canada)\nRegistration is required for this meeting. After registering\, you will receive a confirmation email containing information about joining the meeting.
URL:https://prairie.ilucc.org/event/cma-spring-mtg/
CATEGORIES:Chicago Metropolitan Association,Illinois Conference
END:VEVENT
END:VCALENDAR